{"text_format":"1","workbook":"xlsx","n_sheets":3,"sheets":["Korrutustabel","korruta_1","jaga"],"not_rendered":{"charts":0,"images":1,"macros":1,"external_links":0,"defined_names":51,"comments":1,"pivot_tables":0},"unopened":[],"bounds":{"document_bytes":16777216,"sheet_cells":100000,"rows_first":2000,"rows_last":500,"rows_between":2000,"halvings":0,"cell_chars":16384,"cell_head_chars":4096},"cells_cut":0,"cells_raw":0,"read":"whole","date_system":"1900"}

{"sheet":"Korrutustabel","index":0,"n_rows":22,"n_cols":12,"rows_kept":22,"cut":false,"hidden":false,"merged":[[1,1,1,2],[6,10,6,11]]}
[]
[null,"Mängureeglid"]
[null,null,null,null,null,null,null,null,"Tulp"]
[null,"Kokku",{"$f":"COUNTA(teade)","v":10},"Õiged",{"$f":"COUNTIF(teade,\"Õige!\")","v":0},"Valed",{"$f":"COUNTIF(teade,\"Vale!\")","v":0},null,6]
[]
[null,null,{"$f":"NOW()","v":41288.288728935186}]
[null,null,null,null,null,null,null,null,null,null,"Rekordid"]
[null,1,6,"*",1,"=",null,{"$f":"IF(t=\"\",\"\",IF(t=a*b,\"Õige!\",\"Vale!\"))","v":""},"number","aeg","praegu","alguses"]
[null,2,6,"*",2,"=",null,"",2,200,9.109375,36.19921875]
[null,3,6,"*",3,"=",null,"",3,200,14,44.3203125]
[null,4,6,"*",4,"=",null,"",4,200,13.890625,56.90234375]
[null,5,6,"*",5,"=",null,"",5,200,11.53125,23.1]
[null,6,6,"*",6,"=",null,"",6,200,17.6328125,48.05859375]
[null,7,6,"*",7,"=",null,"",7,200,17.25,82.8203125]
[null,8,6,"*",8,"=",null,"",8,200,17.40625,60.25]
[null,9,6,"*",9,"=",null,"",9,200,16.9140625,32.90234375]
[null,10,6,"*",10,"=",null,"","Keskmine",{"$f":"AVERAGE(J9:J16)","v":200},{"$f":"AVERAGE(K9:K16)","v":14.716796875},{"$f":"AVERAGE(L9:L16)","v":48.069140625000003}]
[]
[null,null,"Aeg=",504.10546875,null,null,null,{"$f":"IF(G19=\"\",\"\",IF(G19=C19+E19,\"Õige!\",\"Vale!\"))","v":""}]
[null,null,"Rekord",9.11,null,null,null,{"$f":"IF(G20=\"\",\"\",IF(G20=C20+E20,\"Õige!\",\"Vale!\"))","v":""}]
[null,null,null,null,null,null,null,{"$f":"IF(G21=\"\",\"\",IF(G21=C21+E21,\"Õige!\",\"Vale!\"))","v":""}]
[null,null,null,null,null,null,null,{"$f":"IF(G22=\"\",\"\",IF(G22=C22+E22,\"Õige!\",\"Vale!\"))","v":""}]

{"sheet":"korruta_1","index":1,"n_rows":21,"n_cols":10,"rows_kept":21,"cut":false,"hidden":false,"merged":[]}
[]
[null,null,null,null,null,null,null,null,"algus","lõpp"]
[null,"Kokku",{"$f":"COUNTA(teade)","v":10},"Õiged",{"$f":"COUNTIF(teade,\"Õige!\")","v":0},"Valed",{"$f":"COUNTIF(teade,\"Vale!\")","v":0},null,2,9]
[]
[null,null,{"$f":"NOW()","v":41288.288728935186}]
[]
[null,1,7,"*",8,"=",null,{"$f":"IF(t=\"\",\"\",IF(t=a*b,\"Õige!\",\"Vale!\"))","v":""}]
[null,2,5,"*",6,"=",null,""]
[null,3,3,"*",5,"=",null,""]
[null,4,7,"*",2,"=",null,""]
[null,5,3,"*",3,"=",null,""]
[null,6,5,"*",7,"=",null,""]
[null,7,7,"*",7,"=",null,""]
[null,8,2,"*",3,"=",null,""]
[null,9,6,"*",2,"=",null,""]
[null,10,8,"*",4,"=",null,""]
[null,null,null,null,null,null,null,{"$f":"IF(G17=\"\",\"\",IF(G17=C17+E17,\"Õige!\",\"Vale!\"))","v":""}]
[null,null,"Aeg",null,null,null,null,{"$f":"IF(G18=\"\",\"\",IF(G18=C18+E18,\"Õige!\",\"Vale!\"))","v":""}]
[null,null,"rekord",22.8984375,null,null,{"$f":"IF(F19=\"\",\"\",IF(F19=C19+#REF!,\"Õige!\",\"Vale!\"))","v":""}]
[null,null,null,null,null,null,null,{"$f":"IF(G20=\"\",\"\",IF(G20=C20+E20,\"Õige!\",\"Vale!\"))","v":""}]
[null,null,null,null,null,null,null,{"$f":"IF(G21=\"\",\"\",IF(G21=C21+E21,\"Õige!\",\"Vale!\"))","v":""}]

{"sheet":"jaga","index":2,"n_rows":21,"n_cols":10,"rows_kept":21,"cut":false,"hidden":false,"merged":[]}
[]
[null,null,null,null,null,null,null,null,"algus","lõpp"]
[null,"Kokku",{"$f":"COUNTA(teade)","v":10},"Õiged",{"$f":"COUNTIF(teade,\"Õige!\")","v":0},"Valed",{"$f":"COUNTIF(teade,\"Vale!\")","v":0},null,3,9]
[]
[null,null,{"$f":"NOW()","v":41288.288728935186}]
[]
[null,1,48,":",8,"=",null,{"$f":"IF(t=\"\",\"\",IF(t=a/b,\"Õige!\",\"Vale!\"))","v":""}]
[null,2,56,":",7,"=",null,{"$f":"IF(t=\"\",\"\",IF(t=a/b,\"Õige!\",\"Vale!\"))","v":""}]
[null,3,35,":",5,"=",null,""]
[null,4,81,":",9,"=",null,""]
[null,5,81,":",9,"=",null,""]
[null,6,54,":",9,"=",null,""]
[null,7,30,":",6,"=",null,""]
[null,8,40,":",8,"=",null,""]
[null,9,40,":",5,"=",null,""]
[null,10,45,":",9,"=",null,""]
[null,null,null,null,null,null,null,{"$f":"IF(G17=\"\",\"\",IF(G17=C17+E17,\"Õige!\",\"Vale!\"))","v":""}]
[null,null,"Aeg",null,null,null,null,{"$f":"IF(G18=\"\",\"\",IF(G18=C18+E18,\"Õige!\",\"Vale!\"))","v":""}]
[null,null,"rekord",22.8984375,null,null,{"$f":"IF(F19=\"\",\"\",IF(F19=C19+#REF!,\"Õige!\",\"Vale!\"))","v":""}]
[null,null,null,null,null,null,null,{"$f":"IF(G20=\"\",\"\",IF(G20=C20+E20,\"Õige!\",\"Vale!\"))","v":""}]
[null,null,null,null,null,null,null,{"$f":"IF(G21=\"\",\"\",IF(G21=C21+E21,\"Õige!\",\"Vale!\"))","v":""}]